BEGIN:VCALENDAR
VERSION:2.0
PRODID:-//Squarespace Inc/Squarespace 6//v6//EN
BEGIN:VEVENT
UID:5df0fe36c4c6bc16efcf4fd6@squarespace.com
DTSTAMP:20191217T101632Z
DTSTART:20200227T190000Z
DTEND:20200227T210000Z
SUMMARY:KMK Kabarett Mars Klein
GEO:49.726963;5.895568
LOCATION:D'Millen\, 103\, Huewelerstrooss\, Biekerech\, Distrikt Dikrech\, 
 8521\, Luxembourg
END:VEVENT
END:VCALENDAR
