BEGIN:VCALENDAR
VERSION:2.0
PRODID:-//Squarespace Inc/Squarespace 6//v6//EN
BEGIN:VEVENT
UID:5df10444b683290241515bc3@squarespace.com
DTSTAMP:20191211T150843Z
DTSTART:20200124T180000Z
DTEND:20200216T170000Z
SUMMARY:Hélène VAN DEN PUTTE -Coloris en mouvement
GEO:49.726963;5.895568
LOCATION:D'Millen\, 103 Huewelerstrooss\, Biekerech\, Distrikt Dikrech\, 85
 21\, Luxembourg
END:VEVENT
END:VCALENDAR
