BEGIN:VCALENDAR
VERSION:2.0
PRODID:-//Squarespace Inc/Squarespace 6//v6//EN
BEGIN:VEVENT
UID:5dde37e5f0214772d1ffce35@squarespace.com
DTSTAMP:20191127T141434Z
DTSTART:20200123T183000Z
DTEND:20200123T203000Z
SUMMARY:Les Grecs ont-ils perdu la guerre de Troie ?
GEO:49.726878;5.895523
LOCATION:D'Millen
END:VEVENT
END:VCALENDAR
