BEGIN:VCALENDAR
VERSION:2.0
PRODID:-//Squarespace Inc/Squarespace 6//v6//EN
BEGIN:VEVENT
UID:5dde84ca19e24b535fb775d1@squarespace.com
DTSTAMP:20191204T145522Z
DTSTART:20200206T183000Z
DTEND:20200206T203000Z
SUMMARY:Le pouvoir de l'eau sur la santé
GEO:49.726878;5.895523
LOCATION:D'Millen
END:VEVENT
END:VCALENDAR
