BEGIN:VCALENDAR
VERSION:2.0
PRODID:-//Squarespace Inc/Squarespace 6//v6//EN
BEGIN:VEVENT
UID:5dde8a20f0214772d106afa6@squarespace.com
DTSTAMP:20191204T145440Z
DTSTART:20200312T183000Z
DTEND:20200312T203000Z
SUMMARY:Les changements climatiques
GEO:49.726878;5.895523
LOCATION:D'Millen
END:VEVENT
END:VCALENDAR
