BEGIN:VCALENDAR
VERSION:2.0
PRODID:-//Squarespace Inc/Squarespace 6//v6//EN
BEGIN:VEVENT
UID:5dde8bda0a44fe71fbc8e4c6@squarespace.com
DTSTAMP:20191127T144823Z
DTSTART:20200326T183000Z
DTEND:20200326T203000Z
SUMMARY:Geschicht a Geschichten aus der Gemeng Biekerich
GEO:49.726878;5.895523
LOCATION:D'Millen
END:VEVENT
END:VCALENDAR
