BEGIN:VCALENDAR
VERSION:2.0
PRODID:-//Squarespace Inc/Squarespace 6//v6//EN
BEGIN:VEVENT
UID:5dde8ce9f0214772d1070f72@squarespace.com
DTSTAMP:20191204T145204Z
DTSTART:20200423T173000Z
DTEND:20200423T193000Z
SUMMARY:L'alimentation et la santé
GEO:49.726878;5.895523
LOCATION:D'Millen
END:VEVENT
END:VCALENDAR
