BEGIN:VCALENDAR
VERSION:2.0
PRODID:-//Squarespace Inc/Squarespace 6//v6//EN
BEGIN:VEVENT
UID:5dde8e448e251f744c38dc0d@squarespace.com
DTSTAMP:20191127T145827Z
DTSTART:20200425T080000Z
DTEND:20200425T100000Z
SUMMARY:L'alimentation et la santé
GEO:49.726878;5.895523
LOCATION:D'Millen
END:VEVENT
END:VCALENDAR
