BEGIN:VCALENDAR
VERSION:2.0
PRODID:-//Squarespace Inc/Squarespace 6//v6//EN
BEGIN:VEVENT
UID:5db3163d38eff90b1398d057@squarespace.com
DTSTAMP:20191025T154216Z
DTSTART:20200111T083000Z
DTEND:20200111T160000Z
SUMMARY:Imprimer et relier ... Un livre d'artiste.
GEO:49.726878;5.895523
LOCATION:D'Millen
END:VEVENT
END:VCALENDAR
