BEGIN:VCALENDAR
VERSION:2.0
PRODID:-//Squarespace Inc/Squarespace 6//v6//EN
BEGIN:VEVENT
UID:5db317d84d63b340b1009ca9@squarespace.com
DTSTAMP:20191025T154259Z
DTSTART:20200125T083000Z
DTEND:20200125T160000Z
SUMMARY:Imprimer et relier ... Un livre d'artiste.
GEO:49.726878;5.895523
LOCATION:D'Millen
END:VEVENT
END:VCALENDAR
