BEGIN:VCALENDAR
VERSION:2.0
PRODID:-//Squarespace Inc/Squarespace 6//v6//EN
BEGIN:VEVENT
UID:5d4d27cf6f6b060001a863d4@squarespace.com
DTSTAMP:20190917T092440Z
DTSTART:20190921T080000Z
DTEND:20190921T100000Z
SUMMARY:Journée européenne du patrimoine 2019
GEO:49.726878;5.895523
LOCATION:D'Millen
END:VEVENT
END:VCALENDAR
