BEGIN:VCALENDAR
VERSION:2.0
PRODID:-//Squarespace Inc/Squarespace 6//v6//EN
BEGIN:VEVENT
UID:5d6fdc73e1975500016414e0@squarespace.com
DTSTAMP:20191008T154214Z
DTSTART:20191020T090000Z
DTEND:20191020T160000Z
SUMMARY:Pak Holz un ! Venez toucher du bois ! 
GEO:49.726878;5.895523
LOCATION:D'Millen
END:VEVENT
END:VCALENDAR
