BEGIN:VCALENDAR
VERSION:2.0
PRODID:-//Squarespace Inc/Squarespace 6//v6//EN
BEGIN:VEVENT
UID:5d1ccff6ffe1410001658951@squarespace.com
DTSTAMP:20190703T160355Z
DTSTART:20190928T180000Z
DTEND:20190928T200000Z
SUMMARY:Impressions in blue · Concert du Luxembourg Little Big Band et ses 
 solistes
GEO:49.726878;5.895523
LOCATION:D'Millen
END:VEVENT
END:VCALENDAR
