BEGIN:VCALENDAR
VERSION:2.0
PRODID:-//Squarespace Inc/Squarespace 6//v6//EN
BEGIN:VEVENT
UID:5ce3e42f8ca6ca0001652e98@squarespace.com
DTSTAMP:20190521T120652Z
DTSTART:20190921T130000Z
DTEND:20190921T153000Z
SUMMARY:Les ateliers de Caroline - atelier mon premier savon
GEO:49.726878;5.895523
LOCATION:D'Millen
END:VEVENT
END:VCALENDAR
