BEGIN:VCALENDAR
VERSION:2.0
PRODID:-//Squarespace Inc/Squarespace 6//v6//EN
BEGIN:VEVENT
UID:5ce3e972d44de70001104834@squarespace.com
DTSTAMP:20190521T120600Z
DTSTART:20200425T133000Z
DTEND:20200425T160000Z
SUMMARY:Les ateliers de Caroline - atelier cosmétiques solides
GEO:49.726878;5.895523
LOCATION:D'Millen
END:VEVENT
END:VCALENDAR
