BEGIN:VCALENDAR
VERSION:2.0
PRODID:-//Squarespace Inc/Squarespace 6//v6//EN
BEGIN:VEVENT
UID:5d47e59bcdea4800010bd02c@squarespace.com
DTSTAMP:20190805T084701Z
DTSTART:20190920T070000Z
DTEND:20191220T110000Z
SUMMARY:Atelier de peinture - Paysages
GEO:49.726878;5.895523
LOCATION:D'Millen asbl
END:VEVENT
END:VCALENDAR
