BEGIN:VCALENDAR
VERSION:2.0
PRODID:-//Squarespace Inc/Squarespace 6//v6//EN
BEGIN:VEVENT
UID:5d381c3fb1e21a0001a83c35@squarespace.com
DTSTAMP:20190724T090346Z
DTSTART:20190919T180000Z
DTEND:20190919T193000Z
SUMMARY:Saints\, guérisseurs\, intercesseurs\, dévotion populaire et remède
 s ancestraux
END:VEVENT
END:VCALENDAR
