BEGIN:VCALENDAR
VERSION:2.0
PRODID:-//Squarespace Inc/Squarespace 6//v6//EN
BEGIN:VEVENT
UID:5d4459e880f42100019cc37e@squarespace.com
DTSTAMP:20190916T123158Z
DTSTART:20190917T113000Z
DTEND:20191212T153000Z
SUMMARY:Cours de couture - Au fil des mois…la préparation du trousseau de b
 ébé
GEO:49.726878;5.895523
LOCATION:D'Millen
END:VEVENT
END:VCALENDAR
