BEGIN:VCALENDAR
VERSION:2.0
PRODID:-//Squarespace Inc/Squarespace 6//v6//EN
BEGIN:VEVENT
UID:5cc1b5f6e79c706de9d36a01@squarespace.com
DTSTAMP:20190425T140144Z
DTSTART:20190706T180000Z
DTEND:20190706T190000Z
SUMMARY:Literaturkeller - Récital de poésie autour de Francis André
GEO:49.726878;5.895523
LOCATION:d'Millen
END:VEVENT
END:VCALENDAR
