BEGIN:VCALENDAR
VERSION:2.0
PRODID:-//Squarespace Inc/Squarespace 6//v6//EN
BEGIN:VEVENT
UID:5ce2c2218cece100014d5903@squarespace.com
DTSTAMP:20190612T133823Z
DTSTART:20190726T190000Z
DTEND:20190726T200000Z
SUMMARY:Fakelwanderung um Kuelebierg - Geschicht an Geschichten aus dem Due
 rf
GEO:49.726878;5.895523
LOCATION:D'Millen
END:VEVENT
END:VCALENDAR
