BEGIN:VCALENDAR
VERSION:2.0
PRODID:-//Squarespace Inc/Squarespace 6//v6//EN
BEGIN:VEVENT
UID:5cfa8bb22442f50001010ec2@squarespace.com
DTSTAMP:20190607T161148Z
DTSTART:20190718T180000Z
DTEND:20190718T193000Z
SUMMARY:Irland
GEO:49.726878;5.895523
LOCATION:D'Millen
END:VEVENT
END:VCALENDAR
