BEGIN:VCALENDAR
VERSION:2.0
PRODID:-//Squarespace Inc/Squarespace 6//v6//EN
BEGIN:VEVENT
UID:5d14d4f5033989000173ebbb@squarespace.com
DTSTAMP:20190719T080937Z
DTSTART:20190713T120000Z
DTEND:20190804T130000Z
SUMMARY:Exposition des travaux de l'atelier peinture
GEO:49.726878;5.895523
LOCATION:D'Millen
END:VEVENT
END:VCALENDAR
