BEGIN:VCALENDAR
VERSION:2.0
PRODID:-//Squarespace Inc/Squarespace 6//v6//EN
BEGIN:VEVENT
UID:5cc1bc9e0852298bb3eaae1a@squarespace.com
DTSTAMP:20190529T095155Z
DTSTART:20190627T180000Z
DTEND:20190627T190000Z
SUMMARY:À la découverte des demoiselles de la nuit 
GEO:49.726878;5.895523
LOCATION:D'Millen
END:VEVENT
END:VCALENDAR
