BEGIN:VCALENDAR
VERSION:2.0
PRODID:-//Squarespace Inc/Squarespace 6//v6//EN
BEGIN:VEVENT
UID:5ce3e1558e10540001bf7971@squarespace.com
DTSTAMP:20190522T083445Z
DTSTART:20190617T120000Z
DTEND:20190617T130000Z
SUMMARY:Présentation du projet Sozialwierkstat - Schirmprojet
GEO:49.726878;5.895523
LOCATION:D'Millen
END:VEVENT
END:VCALENDAR
