BEGIN:VCALENDAR
VERSION:2.0
PRODID:-//Squarespace Inc/Squarespace 6//v6//EN
BEGIN:VEVENT
UID:5ce2afc63e267200019fa6f8@squarespace.com
DTSTAMP:20190521T122134Z
DTSTART:20190616T123000Z
DTEND:20190616T133000Z
SUMMARY:E-FéeRveSens - présentation et séance de dédicace du livre de Marie
 -Anne Goedert
GEO:49.726878;5.895523
LOCATION:D'Millen
END:VEVENT
END:VCALENDAR
