BEGIN:VCALENDAR
VERSION:2.0
PRODID:-//Squarespace Inc/Squarespace 6//v6//EN
BEGIN:VEVENT
UID:5ce262463e267200019d3ff6@squarespace.com
DTSTAMP:20190703T114243Z
DTSTART:20190615T120000Z
DTEND:20190707T160000Z
SUMMARY:Traces et rêves\, une exposition de Marylène Schmit et Danielle Hen
 tgen
GEO:49.726878;5.895523
LOCATION:d'Millen
END:VEVENT
END:VCALENDAR
