BEGIN:VCALENDAR
VERSION:2.0
PRODID:-//Squarespace Inc/Squarespace 6//v6//EN
BEGIN:VEVENT
UID:5ce2677460b1030001f38912@squarespace.com
DTSTAMP:20190520T084114Z
DTSTART:20190522T173000Z
DTEND:20190609T160000Z
SUMMARY:Beki : Série limitée en hommage à Camille Gira 
GEO:49.726878;5.895523
LOCATION:D'Millen
END:VEVENT
END:VCALENDAR
