BEGIN:VCALENDAR
VERSION:2.0
PRODID:-//Squarespace Inc/Squarespace 6//v6//EN
BEGIN:VEVENT
UID:5cac7d3423d25a00018a1a00@squarespace.com
DTSTAMP:20190409T114802Z
DTSTART:20190518T080000Z
DTEND:20190518T103000Z
SUMMARY:Présentation &amp\; visite des 5 sources de Gaichel
GEO:49.680297;5.9446
LOCATION:Parking SES\, Fockemillen\, L-8386\, KOERICH
END:VEVENT
END:VCALENDAR
