BEGIN:VCALENDAR
VERSION:2.0
PRODID:-//Squarespace Inc/Squarespace 6//v6//EN
BEGIN:VEVENT
UID:5c9e370c652dea7a80ade5f4@squarespace.com
DTSTAMP:20190411T134122Z
DTSTART:20190427T120000Z
DTEND:20190527T160000Z
SUMMARY:Parallèles croisées\, une exposition d'Iva Mrazkova
GEO:49.726878;5.895523
LOCATION:D'Millen
END:VEVENT
END:VCALENDAR
