BEGIN:VCALENDAR
VERSION:2.0
PRODID:-//Squarespace Inc/Squarespace 6//v6//EN
BEGIN:VEVENT
UID:5c6e9eddee6eb0281c15e4c4@squarespace.com
DTSTAMP:20190221T125925Z
DTSTART:20190411T180000Z
DTEND:20190411T190000Z
SUMMARY:Guédelon\, d'Handwierk am Mëttelalter
GEO:49.726878;5.895523
LOCATION:D'Millen
END:VEVENT
END:VCALENDAR
