BEGIN:VCALENDAR
VERSION:2.0
PRODID:-//Squarespace Inc/Squarespace 6//v6//EN
BEGIN:VEVENT
UID:5c375d398a922d77801708e2@squarespace.com
DTSTAMP:20190110T151032Z
DTSTART:20190308T190000Z
DTEND:20190308T210000Z
SUMMARY:Le rock et les femmes
GEO:49.726878;5.895523
LOCATION:D'Millen asbl
END:VEVENT
END:VCALENDAR
