BEGIN:VCALENDAR
VERSION:2.0
PRODID:-//Squarespace Inc/Squarespace 6//v6//EN
BEGIN:VEVENT
UID:5c37601ff950b7e510fd227a@squarespace.com
DTSTAMP:20190110T151004Z
DTSTART:20190419T180000Z
DTEND:20190419T200000Z
SUMMARY:Le rock et la religion
GEO:49.726878;5.895523
LOCATION:D'Millen asbl
END:VEVENT
END:VCALENDAR
