BEGIN:VCALENDAR
VERSION:2.0
PRODID:-//Squarespace Inc/Squarespace 6//v6//EN
BEGIN:VEVENT
UID:5c3db73a0e2e721c121f83a2@squarespace.com
DTSTAMP:20190115T110523Z
DTSTART:20190328T190000Z
DTEND:20190328T200000Z
SUMMARY:Autopsy
GEO:49.726963;5.895568
LOCATION:D'Millen
END:VEVENT
END:VCALENDAR
