BEGIN:VCALENDAR
VERSION:2.0
PRODID:-//Squarespace Inc/Squarespace 6//v6//EN
BEGIN:VEVENT
UID:5c51e8986d2a73e4c59e916f@squarespace.com
DTSTAMP:20190301T103137Z
DTSTART:20190323T150000Z
DTEND:20190323T163000Z
SUMMARY:WORKSHOP - L’AROMATHÉRAPIE POST-HIVERNALE POUR LE CORPS ET L’ESPRIT
GEO:49.726963;5.895568
LOCATION:D'Millen
END:VEVENT
END:VCALENDAR
