BEGIN:VCALENDAR
VERSION:2.0
PRODID:-//Squarespace Inc/Squarespace 6//v6//EN
BEGIN:VEVENT
UID:5c40984bf950b7e303b746ab@squarespace.com
DTSTAMP:20190208T151548Z
DTSTART:20190302T130000Z
DTEND:20190302T160000Z
SUMMARY:Atelier monotypes
GEO:49.726878;5.895523
LOCATION:D'Millen
END:VEVENT
END:VCALENDAR
