BEGIN:VCALENDAR
VERSION:2.0
PRODID:-//Squarespace Inc/Squarespace 6//v6//EN
BEGIN:VEVENT
UID:5c1cfd094d7a9ca4f142d84a@squarespace.com
DTSTAMP:20181221T145200Z
DTSTART:20190207T190000Z
DTEND:20190207T203000Z
SUMMARY:Quelques figures du féminisme dans la bible : de Lilith à Salomé\, 
 en passant par Salomon 
GEO:49.726878;5.895523
LOCATION:D'Millen
END:VEVENT
END:VCALENDAR
