BEGIN:VCALENDAR
VERSION:2.0
PRODID:-//Squarespace Inc/Squarespace 6//v6//EN
BEGIN:VEVENT
UID:5c40958870a6adde64a1bbad@squarespace.com
DTSTAMP:20190208T151413Z
DTSTART:20190223T130000Z
DTEND:20190317T170000Z
SUMMARY:Monotypes\, une exposition de Martine Deny
GEO:49.726963;5.895568
LOCATION:D'Millen
END:VEVENT
END:VCALENDAR
