BEGIN:VCALENDAR
VERSION:2.0
PRODID:-//Squarespace Inc/Squarespace 6//v6//EN
BEGIN:VEVENT
UID:5c1cff97758d469dba9b398b@squarespace.com
DTSTAMP:20190114T132834Z
DTSTART:20190216T140000Z
DTEND:20190216T160000Z
SUMMARY:Atelier Mandalas de Sable
GEO:40.720756;-74.000761
LOCATION:D'Millen
END:VEVENT
END:VCALENDAR
