BEGIN:VCALENDAR
VERSION:2.0
PRODID:-//Squarespace Inc/Squarespace 6//v6//EN
BEGIN:VEVENT
UID:5bd7092ee4966b23a9fec315@squarespace.com
DTSTAMP:20181116T143331Z
DTSTART:20190112T130000Z
DTEND:20190615T160000Z
SUMMARY:Ateliers Energie -CHI-KI-PRANA-MANA
GEO:49.724023;5.899167
LOCATION:Hall sportif\, 3 Jos Seyler Strooss\, Biekerech\, L-8522\, Luxembo
 urg
END:VEVENT
END:VCALENDAR
