BEGIN:VCALENDAR
VERSION:2.0
PRODID:-//Squarespace Inc/Squarespace 6//v6//EN
BEGIN:VEVENT
UID:5da70c2a9e99bd6c95be956d@squarespace.com
DTSTAMP:20191121T150834Z
DTSTART:20191207T150000Z
DTEND:20191208T170000Z
SUMMARY:Chrëschtdag op der Millen - Noël au Moulin
GEO:49.726963;5.895568
LOCATION:D'Millen\, 103 Huewelerstrooss\, Biekerech\, Distrikt Dikrech\, 85
 21\, Luxembourg
END:VEVENT
END:VCALENDAR
