BEGIN:VCALENDAR
VERSION:2.0
PRODID:-//Squarespace Inc/Squarespace 6//v6//EN
BEGIN:VEVENT
UID:5db6b261628b613d41a688d9@squarespace.com
DTSTAMP:20191216T152923Z
DTSTART:20200307T180000Z
DTEND:20200307T200000Z
SUMMARY:Balade au clair de lune 
GEO:49.726878;5.895523
LOCATION:D'Millen
END:VEVENT
END:VCALENDAR
