BEGIN:VCALENDAR
VERSION:2.0
PRODID:-//Squarespace Inc/Squarespace 6//v6//EN
BEGIN:VEVENT
UID:5d9e09f89dac8768dde04f70@squarespace.com
DTSTAMP:20191009T163349Z
DTSTART:20191130T090000Z
DTEND:20191130T110000Z
SUMMARY:Let's move - Let's be now
GEO:49.7245;5.89905
LOCATION:Hall des sports\, Jos Seyler Strooss\, Biekerech\, Distrikt Dikrec
 h\, 8522\, Luxembourg
END:VEVENT
END:VCALENDAR
