BEGIN:VCALENDAR
VERSION:2.0
PRODID:-//Squarespace Inc/Squarespace 6//v6//EN
BEGIN:VEVENT
UID:5d6fd978b39cc70001f16db6@squarespace.com
DTSTAMP:20191030T153822Z
DTSTART:20191120T173000Z
DTEND:20191120T193000Z
SUMMARY:Famille presque zéro déchet
GEO:49.770702;5.899719
LOCATION:Salle de fête  Atert Lycée Redange\, 1\, Rue du Lycée\, L-8508\, R
 edange
END:VEVENT
END:VCALENDAR
