BEGIN:VCALENDAR
VERSION:2.0
PRODID:-//Squarespace Inc/Squarespace 6//v6//EN
BEGIN:VEVENT
UID:5db1a2833b6cfd7b24ffcb4f@squarespace.com
DTSTAMP:20191106T091047Z
DTSTART:20191116T130000Z
DTEND:20191208T170000Z
SUMMARY:A Sofa in St Tropez\, une exposition de Roland Schroeder
GEO:49.726878;5.895523
LOCATION:D'Millen
END:VEVENT
END:VCALENDAR
