BEGIN:VCALENDAR
VERSION:2.0
PRODID:-//Squarespace Inc/Squarespace 6//v6//EN
BEGIN:VEVENT
UID:5d89fd17ca49b978bf9ab0eb@squarespace.com
DTSTAMP:20191203T094612Z
DTSTART:20200207T183000Z
DTEND:20200207T210000Z
SUMMARY:Le paradis des rockeurs -conférence d'Eric Laforge (Classic 21)
GEO:49.726878;5.895523
LOCATION:D'Millen
END:VEVENT
END:VCALENDAR
