BEGIN:VCALENDAR
VERSION:2.0
PRODID:-//Squarespace Inc/Squarespace 6//v6//EN
BEGIN:VEVENT
UID:5dadcd8d64fbcd1ae7cf4cfb@squarespace.com
DTSTAMP:20191021T152718Z
DTSTART:20191114T190000Z
DTEND:20191114T203000Z
SUMMARY:L'entretien de ses plantes d'appartement : soins\, types de multipl
 ications et variétés
GEO:49.726878;5.895523
LOCATION:D'Millen
END:VEVENT
END:VCALENDAR
