BEGIN:VCALENDAR
VERSION:2.0
PRODID:-//Squarespace Inc/Squarespace 6//v6//EN
BEGIN:VEVENT
UID:5d499d597fda4c0001902fd4@squarespace.com
DTSTAMP:20191129T083422Z
DTSTART:20200109T170000Z
DTEND:20200206T190000Z
SUMMARY:Cours de tricot 
GEO:49.726878;5.895523
LOCATION:D'Millen
END:VEVENT
END:VCALENDAR
