BEGIN:VCALENDAR
VERSION:2.0
PRODID:-//Squarespace Inc/Squarespace 6//v6//EN
BEGIN:VEVENT
UID:5d4a89e7e6cf6c000129c1ad@squarespace.com
DTSTAMP:20190916T092926Z
DTSTART:20191005T120000Z
DTEND:20191027T170000Z
SUMMARY:Au-delà du bois\, une exposition de Pitt Brandenburger
GEO:49.726878;5.895523
LOCATION:D'Millen
END:VEVENT
END:VCALENDAR
