BEGIN:VCALENDAR
VERSION:2.0
PRODID:-//Squarespace Inc/Squarespace 6//v6//EN
BEGIN:VEVENT
UID:5d88c34e3a08391190acadd3@squarespace.com
DTSTAMP:20190923T131338Z
DTSTART:20191024T180000Z
DTEND:20191024T200000Z
SUMMARY:Um Äquator am Equador - Impressiounen aus dem Andestaat an den Gala
 pagos Inselen
GEO:49.726878;5.895523
LOCATION:D'Millen
END:VEVENT
END:VCALENDAR
