BEGIN:VCALENDAR
VERSION:2.0
PRODID:-//Squarespace Inc/Squarespace 6//v6//EN
BEGIN:VEVENT
UID:5d25b465ea774a0001d8bbe1@squarespace.com
DTSTAMP:20190902T130822Z
DTSTART:20191012T120000Z
DTEND:20191012T153000Z
SUMMARY:Kraiderwanderung an Workshop  Hausapdikt aus der Natur
GEO:49.726878;5.895523
LOCATION:D'Millen
END:VEVENT
END:VCALENDAR
